{
 "currentVersion": 10.81,
 "serviceDescription": "NIS Test WMTS",
 "mapName": "Layers",
 "description": "",
 "copyrightText": "",
 "supportsDynamicLayers": true,
 "layers": [
  {
   "id": 0,
   "name": "Raster.VKWDATA.VOGIS_LS_TER_HOEHE_50CM_2017",
   "parentLayerId": -1,
   "defaultVisibility": true,
   "subLayerIds": null,
   "minScale": 0,
   "maxScale": 0,
   "type": "Raster Layer"
  }
 ],
 "tables": [],
 "spatialReference": {
  "wkid": 31254,
  "latestWkid": 31254
 },
 "singleFusedMapCache": true,
 "tileInfo": {
  "rows": 256,
  "cols": 256,
  "dpi": 96,
  "format": "MIXED",
  "compressionQuality": 75,
  "origin": {
   "x": -300000,
   "y": 500000
  },
  "spatialReference": {
   "wkid": 31254,
   "latestWkid": 31254
  },
  "lods": [
   {
    "level": 0,
    "resolution": 2645.8386250105837,
    "scale": 10000000
   },
   {
    "level": 1,
    "resolution": 1322.9193125052918,
    "scale": 5000000
   },
   {
    "level": 2,
    "resolution": 529.1677250021168,
    "scale": 2000000
   },
   {
    "level": 3,
    "resolution": 264.5838625010584,
    "scale": 1000000
   },
   {
    "level": 4,
    "resolution": 132.2919312505292,
    "scale": 500000
   },
   {
    "level": 5,
    "resolution": 52.91677250021167,
    "scale": 200000
   },
   {
    "level": 6,
    "resolution": 26.458386250105836,
    "scale": 100000
   },
   {
    "level": 7,
    "resolution": 13.229193125052918,
    "scale": 50000
   },
   {
    "level": 8,
    "resolution": 6.614596562526459,
    "scale": 25000
   },
   {
    "level": 9,
    "resolution": 5.291677250021167,
    "scale": 20000
   },
   {
    "level": 10,
    "resolution": 3.9687579375158752,
    "scale": 15000
   },
   {
    "level": 11,
    "resolution": 2.6458386250105836,
    "scale": 10000
   },
   {
    "level": 12,
    "resolution": 1.3229193125052918,
    "scale": 5000
   },
   {
    "level": 13,
    "resolution": 0.5291677250021167,
    "scale": 2000
   },
   {
    "level": 14,
    "resolution": 0.26458386250105836,
    "scale": 1000
   },
   {
    "level": 15,
    "resolution": 0.13229193125052918,
    "scale": 500
   },
   {
    "level": 16,
    "resolution": 0.06614596562526459,
    "scale": 250
   },
   {
    "level": 17,
    "resolution": 0.026458386250105836,
    "scale": 100
   },
   {
    "level": 18,
    "resolution": 0.013229193125052918,
    "scale": 50
   },
   {
    "level": 19,
    "resolution": 0.006614596562526459,
    "scale": 25
   },
   {
    "level": 20,
    "resolution": 0.0026458386250105834,
    "scale": 10
   },
   {
    "level": 21,
    "resolution": 0.0013229193125052917,
    "scale": 5
   }
  ]
 },
 "initialExtent": {
  "xmin": -150189.41606849985,
  "ymin": 201702.13609433436,
  "xmax": 80792.29589492411,
  "ymax": 339021.16073238367,
  "spatialReference": {
   "wkid": 31254,
   "latestWkid": 31254
  }
 },
 "fullExtent": {
  "xmin": -60906,
  "ymin": 188914,
  "xmax": -7042,
  "ymax": 273389.5,
  "spatialReference": {
   "wkid": 31254,
   "latestWkid": 31254
  }
 },
 "minScale": 10000000,
 "maxScale": 5000,
 "minLOD": 0,
 "maxLOD": 12,
 "units": "esriMeters",
 "supportedImageFormatTypes": "PNG32,PNG24,PNG,JPG,DIB,TIFF,EMF,PS,PDF,GIF,SVG,SVGZ,BMP",
 "documentInfo": {
  "Title": "",
  "Author": "",
  "Comments": "",
  "Subject": "",
  "Category": "",
  "AntialiasingMode": "None",
  "TextAntialiasingMode": "Force",
  "Keywords": "NIS"
 },
 "capabilities": "Map,Query,Data",
 "supportedQueryFormats": "JSON, geoJSON",
 "exportTilesAllowed": false,
 "referenceScale": 0,
 "supportsDatumTransformation": true,
 "maxRecordCount": 1000,
 "maxImageHeight": 4096,
 "maxImageWidth": 4096,
 "supportedExtensions": "WMSServer"
}
